

BEGIN:VCALENDAR
VERSION:2.0
PRODID:-//eventon.com NONSGML v1.0//EN
BEGIN:VEVENT
UID:69eb8ee523b5d
DTSTAMP:20260424T214021
DTSTART:20231214T230000Z
DTEND:20231215T000000Z
TZID:Pacific/Midway
LOCATION:YouTube 
SUMMARY:Подходы к терапии и профилактике развития осложнений острого цистита
DESCRIPTION: 🎓 Лектор: Гаджиева З.К.\,  д.м.н.\,  руководитель отдела анализа в Научно-Медицинском Исследовательском Центре урологии Первого МГМУ им. И.М.Сеченова. 🔬 Ключевые моменты: Факторы риска инфекций мочевыводящих путей (ИМВП).Ситуации рекомендованного и не рекомендованного лечения бессимптомной бактериурии.Изменения в лечении цистита за последние 15-20 лет.Федеральные клинические рекомендации по лечению цистита и пиелонефрита. 🧬 Значение: Видеолекция[..]\nhttps://open.olainfarm.kg/events/%d0%bf%d0%be%d0%b4%d1%85%d0%be%d0%b4%d1%8b-%d0%ba-%d1%82%d0%b5%d1%80%d0%b0%d0%bf%d0%b8%d0%b8-%d0%b8-%d0%bf%d1%80%d0%be%d1%84%d0%b8%d0%bb%d0%b0%d0%ba%d1%82%d0%b8%d0%ba%d0%b5-%d1%80%d0%b0%d0%b7%d0%b2/
URL:https://open.olainfarm.kg/events/%d0%bf%d0%be%d0%b4%d1%85%d0%be%d0%b4%d1%8b-%d0%ba-%d1%82%d0%b5%d1%80%d0%b0%d0%bf%d0%b8%d0%b8-%d0%b8-%d0%bf%d1%80%d0%be%d1%84%d0%b8%d0%bb%d0%b0%d0%ba%d1%82%d0%b8%d0%ba%d0%b5-%d1%80%d0%b0%d0%b7%d0%b2/
END:VEVENT
END:VCALENDAR