

BEGIN:VCALENDAR
VERSION:2.0
PRODID:-//eventon.com NONSGML v1.0//EN
BEGIN:VEVENT
UID:69eb8ee31dd87
DTSTAMP:20260424T214019
DTSTART:20231215T230000Z
DTEND:20231216T000000Z
TZID:Pacific/Midway
LOCATION:YouTube 
SUMMARY:X московская урологическая школа
DESCRIPTION: Сателлитный симпозиум Цистит – «простой» или «непростой» диагноз? Дискуссия с экспертами. Что не так со стандартами лечения «стандартного» заболевания? Перспективное направление лечения женщин с хроническим рецидивирующим бактериальным циститом. Зарегистрированные пользователи могут просмотреть вебинар по ссылке: &#171;X московская урологическая школа&#187;\nhttps://open.olainfarm.kg/events/x-%d0%bc%d0%be%d1%81%d0%ba%d0%be%d0%b2%d1%81%d0%ba%d0%b0%d1%8f-%d1%83%d1%80%d0%be%d0%bb%d0%be%d0%b3%d0%b8%d1%87%d0%b5%d1%81%d0%ba%d0%b0%d1%8f-%d1%88%d0%ba%d0%be%d0%bb%d0%b0/
URL:https://open.olainfarm.kg/events/x-%d0%bc%d0%be%d1%81%d0%ba%d0%be%d0%b2%d1%81%d0%ba%d0%b0%d1%8f-%d1%83%d1%80%d0%be%d0%bb%d0%be%d0%b3%d0%b8%d1%87%d0%b5%d1%81%d0%ba%d0%b0%d1%8f-%d1%88%d0%ba%d0%be%d0%bb%d0%b0/
END:VEVENT
END:VCALENDAR